BEGIN:VCALENDAR
VERSION:2.0
PRODID:-//SVP Oberengstringen //NONSGML Events //EN
CALSCALE:GREGORIAN
X-WR-CALNAME:SVP Oberengstringen
BEGIN:VEVENT
CREATED:20221212T111443Z
UID:836
DTEND:20231214T220000
DTSTART:20231214T183000
DTSTAMP:20260420T142942Z
LOCATION:Oberengstringen
DESCRIPTION:
SUMMARY:Stamm
ORGANIZER:SVP Oberengstringen
URL;VALUE=URI:https://www.svp-oberengstringen.ch/termine/stamm-6/
TRANSP:OPAQUE
END:VEVENT
END:VCALENDAR
